BEGIN:VCALENDAR
VERSION:2.0
PRODID:5ada3b9f-ee5c-4040-a169-e29e22e994e3
CALSCALE:GREGORIAN
METHOD:PUBLISH
X-WR-CALDESC:A monthly musical exchange with instruments from different cu
 ltural regions.
X-WR-CALNAME:Voices of women from Kurdistan\, Afghanistan\, Iran\, and Arm
 enia
BEGIN:VEVENT
SUMMARY:Voices of women from Kurdistan\, Afghanistan\, Iran\, and Armenia
DTSTART:20240313T180000
DTEND:20240313T200000
DTSTAMP:20260421T203655Z
UID:d9b9c83e7b8d2b94524e1fc84dc42f14
CATEGORIES:
URL:https://spore-initiative.org/en/programming/participate/voices-of-wome
 n-from-kurdistan-afghanistan-iran-and-armenia
END:VEVENT
END:VCALENDAR
