BEGIN:VCALENDAR
VERSION:2.0
PRODID:e5a6d6a9-5e02-4873-b0fe-f29286e7e74f
CALSCALE:GREGORIAN
METHOD:PUBLISH
X-WR-CALDESC:A monthly musical exchange with instruments from different cu
 ltural regions.
X-WR-CALNAME:Universal sounds and melodies
BEGIN:VEVENT
SUMMARY:Universal sounds and melodies
DTSTART:20240214T180000
DTEND:20240214T200000
DTSTAMP:20260421T172746Z
UID:1ebcb9614c0d875339a6f1a8a61ae7d6
CATEGORIES:
URL:https://spore-initiative.org/en/programming/participate/universal-soun
 ds-and-melodies
END:VEVENT
END:VCALENDAR
