BEGIN:VCALENDAR
VERSION:2.0
PRODID:db5aafa6-33f3-4fa8-8932-d6ec248da3b8
CALSCALE:GREGORIAN
METHOD:PUBLISH
X-WR-CALDESC:A monthly musical exchange with instruments from different cu
 ltural regions.
X-WR-CALNAME:History of the Maqam system and its health effects II
BEGIN:VEVENT
SUMMARY:History of the Maqam system and its health effects II
DTSTART:20240110T180000
DTEND:20240110T200000
DTSTAMP:20260421T204437Z
UID:c73f98f845af33012a078f6b28c51ef4
CATEGORIES:
URL:https://spore-initiative.org/en/programming/participate/history-of-the
 -maqam-system-and-its-health-effects-ii
END:VEVENT
END:VCALENDAR
