BEGIN:VCALENDAR
VERSION:2.0
PRODID:71d0aa2f-0c31-46b8-99cb-8ad4fb5ad07f
CALSCALE:GREGORIAN
METHOD:PUBLISH
X-WR-CALDESC:A monthly musical exchange with instruments from different cu
 ltural regions.
X-WR-CALNAME:History of the Maqam system and its health effects I
BEGIN:VEVENT
SUMMARY:History of the Maqam system and its health effects I
DTSTART:20231213T180000
DTEND:20231213T200000
DTSTAMP:20260421T204053Z
UID:0ac9b0584e42f3c93c55e0568e86cc1a
CATEGORIES:
URL:https://spore-initiative.org/en/programming/participate/history-of-the
 -maqam-system-and-its-health-effects-i
END:VEVENT
END:VCALENDAR
