BEGIN:VCALENDAR
VERSION:2.0
PRODID:ad2e2013-5b27-4612-bdb7-e8d89c9d2e1c
CALSCALE:GREGORIAN
METHOD:PUBLISH
X-WR-CALDESC:A monthly musical exchange with instruments from different cu
 ltural regions.
X-WR-CALNAME:Tambur: History of the Tanbour’s influence on our body and 
 soul
BEGIN:VEVENT
SUMMARY:Tambur: History of the Tanbour’s influence on our body and soul
DTSTART:20231101T180000
DTEND:20231101T200000
DTSTAMP:20260421T204403Z
UID:834c18148a6c20ca7917737b9c7cbbfe
CATEGORIES:
URL:https://spore-initiative.org/en/programming/participate/tambur-history
 -of-the-tanbours-influence-on-our-body-and-soul
END:VEVENT
END:VCALENDAR
