BEGIN:VCALENDAR
VERSION:2.0
PRODID:43541c24-a356-4296-ae48-2263d6d28577
CALSCALE:GREGORIAN
METHOD:PUBLISH
X-WR-CALDESC:Lecture-Performance
X-WR-CALNAME:The Roots of Everything: The Power of Imagination – The Clo
 ud Forest as Real Utopia
BEGIN:VEVENT
SUMMARY:The Roots of Everything: The Power of Imagination – The Cloud Fo
 rest as Real Utopia
DTSTART:20260505T183000
DTEND:20260505T203000
DTSTAMP:20260423T180523Z
UID:b683f64fa7c9f5d7bb0ca08199f75629
CATEGORIES:
URL:https://spore-initiative.org/en/programming/participate/the-power-of-i
 magination-the-cloud-forest-as-real-utopia
END:VEVENT
END:VCALENDAR
