BEGIN:VCALENDAR
VERSION:2.0
PRODID:38cdcff1-2bf8-4ef6-91f6-b8dd17d6fa04
CALSCALE:GREGORIAN
METHOD:PUBLISH
X-WR-CALDESC:A critical discussion on historical precedents\, the conseque
 nces of impunity\, and the lessons learned
X-WR-CALNAME:Zeit zu reden – International: The Genocide Against the Arm
 enians and its Significance
BEGIN:VEVENT
SUMMARY:Zeit zu reden – International: The Genocide Against the Armenian
 s and its Significance
DTSTART:20260423T190000
DTEND:20260423T220000
DTSTAMP:20260422T140606Z
UID:cd3fb7b8dbee9a5d6222f3f3cedeb92c
CATEGORIES:
URL:https://spore-initiative.org/en/programming/participate/zeit-zu-reden-
 international-the-genocide-against-the-armenians-and-its-significance
END:VEVENT
END:VCALENDAR
