BEGIN:VCALENDAR
VERSION:2.0
PRODID:267cd145-a378-42cc-be2c-88560ec461ea
CALSCALE:GREGORIAN
METHOD:PUBLISH
X-WR-CALDESC:Readings and Panel Discussion
X-WR-CALNAME:“SYRIA: Fall of Eternity\,” Launching ArabLit Quarterly
 ’s Spring 2026 Issue
BEGIN:VEVENT
SUMMARY:“SYRIA: Fall of Eternity\,” Launching ArabLit Quarterly’s Sp
 ring 2026 Issue
DTSTART:20260503T180000
DTEND:20260503T193000
DTSTAMP:20260421T053705Z
UID:a834ac6ad7d070830521384115f41119
CATEGORIES:
URL:https://spore-initiative.org/en/programming/participate/syria-fall-of-
 eternity-launching-arablit-quarterlys-spring-2026-issue
END:VEVENT
END:VCALENDAR
