BEGIN:VCALENDAR
VERSION:2.0
PRODID:80de40da-344a-4866-b2e0-d6570c2d5004
CALSCALE:GREGORIAN
METHOD:PUBLISH
X-WR-CALDESC:Exhibition\, panel discussions and screening
X-WR-CALNAME:BE_LONGING – BEYOND COMMUNITIES & Finissage of “Den Himme
 l schweben lassen”
BEGIN:VEVENT
SUMMARY:BE_LONGING – BEYOND COMMUNITIES & Finissage of “Den Himmel sch
 weben lassen”
DTSTART:20260419T120000
DTEND:20260419T200000
DTSTAMP:20260421T072701Z
UID:682bce950613a8e8a8579d4f18785fe3
CATEGORIES:
URL:https://spore-initiative.org/en/programming/participate/be_longing-bey
 ond-communities-finissage-of-den-himmel-schweben-lassen
END:VEVENT
BEGIN:VEVENT
SUMMARY:BE_LONGING – BEYOND COMMUNITIES & Finissage of “Den Himmel sch
 weben lassen”
DTSTART:20260418T120000
DTEND:20260418T200000
DTSTAMP:20260421T072701Z
UID:35ea63c1626d8e40a4b4f7ace546ac10
CATEGORIES:
URL:https://spore-initiative.org/en/programming/participate/be_longing-bey
 ond-communities-finissage-of-den-himmel-schweben-lassen
END:VEVENT
END:VCALENDAR
