BEGIN:VCALENDAR
VERSION:2.0
PRODID:bef18913-e75d-49f0-87cb-a5e115b70cae
CALSCALE:GREGORIAN
METHOD:PUBLISH
X-WR-CALDESC:Film screening and conversation
X-WR-CALNAME:ANTI-COLONIAL FILM NIGHT with _Subkontinent:   Kus Kari Gongu
 l
BEGIN:VEVENT
SUMMARY:ANTI-COLONIAL FILM NIGHT with _Subkontinent:   Kus Kari Gongul
DTSTART:20260410T183000
DTEND:20260410T210000
DTSTAMP:20260421T072253Z
UID:43d6f0775160eb1026010a4af61e0695
CATEGORIES:
URL:https://spore-initiative.org/en/programming/participate/anti-colonial-
 film-night-with-_subkontinent-kus-kari-gongul
END:VEVENT
END:VCALENDAR
