BEGIN:VCALENDAR
VERSION:2.0
PRODID:047647b6-42df-4288-8d17-e767e146adec
CALSCALE:GREGORIAN
METHOD:PUBLISH
X-WR-CALDESC:A Listening Journey
X-WR-CALNAME:Meshwar Mixtapes: Take Me to Palestine
BEGIN:VEVENT
SUMMARY:Meshwar Mixtapes: Take Me to Palestine
DTSTART:20260402T190000
DTEND:20260402T213000
DTSTAMP:20260421T071705Z
UID:eae21c4f0a8264560ceabad9f3893246
CATEGORIES:
URL:https://spore-initiative.org/en/programming/participate/meshwar-mixtap
 es-take-me-to-palestine
END:VEVENT
END:VCALENDAR
