BEGIN:VCALENDAR
VERSION:2.0
PRODID:a8e697f6-f274-40d3-94f1-0b960f9a787f
CALSCALE:GREGORIAN
METHOD:PUBLISH
X-WR-CALDESC:Workshop and conversation
X-WR-CALNAME:Murilpaz: A Women-Led Indigenous Lenca Movement from La Paz i
 n Honduras
BEGIN:VEVENT
SUMMARY:Murilpaz: A Women-Led Indigenous Lenca Movement from La Paz in Hon
 duras
DTSTART:20260401T170000
DTEND:20260401T200000
DTSTAMP:20260421T090254Z
UID:b4f09c953be1c2b3e869b05c3dfd82f0
CATEGORIES:
URL:https://spore-initiative.org/en/programming/participate/murilpaz-a-wom
 en-led-indigenous-lenca-movement-from-la-paz-in-honduras
END:VEVENT
END:VCALENDAR
