BEGIN:VCALENDAR
VERSION:2.0
PRODID:94ae34c0-3f70-4478-a09f-3fc444864e91
CALSCALE:GREGORIAN
METHOD:PUBLISH
X-WR-CALDESC:A group exhibition with works from the Spore Collecti
 on – Exhibition Opening
X-WR-CALNAME:In Relation – Exhibition Opening
BEGIN:VEVENT
SUMMARY:In Relation – Exhibition Opening
DTSTART:20260329T163000
DTEND:20260329T200000
DTSTAMP:20260423T104208Z
UID:a93110d7bc963541f997400ca1152c57
CATEGORIES:
URL:https://spore-initiative.org/en/programming/participate/in-relation-ex
 hibition-opening
END:VEVENT
END:VCALENDAR
