BEGIN:VCALENDAR
VERSION:2.0
PRODID:7b3cfc24-1101-4063-bba7-527ed31c36e8
CALSCALE:GREGORIAN
METHOD:PUBLISH
X-WR-CALDESC:A group exhibition with works from the Spore Collection
X-WR-CALNAME:In Relation
BEGIN:VEVENT
SUMMARY:In Relation
DTSTART:20260402T150000
DTEND:20260402T200000
DTSTAMP:20260421T090136Z
UID:44ac0bb987a7e1815a8ddeddfd3b3295
CATEGORIES:
URL:https://spore-initiative.org/en/programming/participate/in-relation_ex
 hibition
END:VEVENT
BEGIN:VEVENT
SUMMARY:In Relation
DTSTART:20260403T150000
DTEND:20260403T200000
DTSTAMP:20260421T090136Z
UID:9afd87c3a66b7637a596b3f0b1421de5
CATEGORIES:
URL:https://spore-initiative.org/en/programming/participate/in-relation_ex
 hibition
END:VEVENT
BEGIN:VEVENT
SUMMARY:In Relation
DTSTART:20260404T120000
DTEND:20260404T200000
DTSTAMP:20260421T090136Z
UID:9fc6edcffc3b1c17369a0e306aee39c0
CATEGORIES:
URL:https://spore-initiative.org/en/programming/participate/in-relation_ex
 hibition
END:VEVENT
BEGIN:VEVENT
SUMMARY:In Relation
DTSTART:20260405T120000
DTEND:20260405T200000
DTSTAMP:20260421T090136Z
UID:be73940c36287fedac350994b00a3b2d
CATEGORIES:
URL:https://spore-initiative.org/en/programming/participate/in-relation_ex
 hibition
END:VEVENT
BEGIN:VEVENT
SUMMARY:In Relation
DTSTART:20260409T150000
DTEND:20260409T200000
DTSTAMP:20260421T090136Z
UID:e04ae798b958a2696cff73fb1ab4bbb2
CATEGORIES:
URL:https://spore-initiative.org/en/programming/participate/in-relation_ex
 hibition
END:VEVENT
BEGIN:VEVENT
SUMMARY:In Relation
DTSTART:20260410T150000
DTEND:20260410T200000
DTSTAMP:20260421T090136Z
UID:927b3d7b0282eaed790c5f18b8473274
CATEGORIES:
URL:https://spore-initiative.org/en/programming/participate/in-relation_ex
 hibition
END:VEVENT
BEGIN:VEVENT
SUMMARY:In Relation
DTSTART:20260411T120000
DTEND:20260411T200000
DTSTAMP:20260421T090136Z
UID:e8e7c58fa96c8d4a88fa5a02528912c7
CATEGORIES:
URL:https://spore-initiative.org/en/programming/participate/in-relation_ex
 hibition
END:VEVENT
BEGIN:VEVENT
SUMMARY:In Relation
DTSTART:20260412T120000
DTEND:20260412T200000
DTSTAMP:20260421T090136Z
UID:31c8cf8576f25de48a3800440c167a67
CATEGORIES:
URL:https://spore-initiative.org/en/programming/participate/in-relation_ex
 hibition
END:VEVENT
BEGIN:VEVENT
SUMMARY:In Relation
DTSTART:20260416T150000
DTEND:20260416T200000
DTSTAMP:20260421T090136Z
UID:16568d9ff23763a450b309f9399680bf
CATEGORIES:
URL:https://spore-initiative.org/en/programming/participate/in-relation_ex
 hibition
END:VEVENT
BEGIN:VEVENT
SUMMARY:In Relation
DTSTART:20260417T150000
DTEND:20260417T200000
DTSTAMP:20260421T090136Z
UID:1a44446bf7ca27d483fd99263246ddb3
CATEGORIES:
URL:https://spore-initiative.org/en/programming/participate/in-relation_ex
 hibition
END:VEVENT
BEGIN:VEVENT
SUMMARY:In Relation
DTSTART:20260418T120000
DTEND:20260418T200000
DTSTAMP:20260421T090136Z
UID:35ea63c1626d8e40a4b4f7ace546ac10
CATEGORIES:
URL:https://spore-initiative.org/en/programming/participate/in-relation_ex
 hibition
END:VEVENT
BEGIN:VEVENT
SUMMARY:In Relation
DTSTART:20260419T120000
DTEND:20260419T200000
DTSTAMP:20260421T090136Z
UID:682bce950613a8e8a8579d4f18785fe3
CATEGORIES:
URL:https://spore-initiative.org/en/programming/participate/in-relation_ex
 hibition
END:VEVENT
BEGIN:VEVENT
SUMMARY:In Relation
DTSTART:20260423T150000
DTEND:20260423T200000
DTSTAMP:20260421T090136Z
UID:472e78526d01f4674e25b9dd472e25d9
CATEGORIES:
URL:https://spore-initiative.org/en/programming/participate/in-relation_ex
 hibition
END:VEVENT
BEGIN:VEVENT
SUMMARY:In Relation
DTSTART:20260424T150000
DTEND:20260424T200000
DTSTAMP:20260421T090136Z
UID:88da7c46db2a8d4aa76c1a97b8ef1fcb
CATEGORIES:
URL:https://spore-initiative.org/en/programming/participate/in-relation_ex
 hibition
END:VEVENT
BEGIN:VEVENT
SUMMARY:In Relation
DTSTART:20260425T120000
DTEND:20260425T200000
DTSTAMP:20260421T090136Z
UID:5c7ecc06bd07cf697f580abcdf2cf7f4
CATEGORIES:
URL:https://spore-initiative.org/en/programming/participate/in-relation_ex
 hibition
END:VEVENT
BEGIN:VEVENT
SUMMARY:In Relation
DTSTART:20260426T120000
DTEND:20260426T200000
DTSTAMP:20260421T090136Z
UID:ef166fcff29014fbe52e4e0fb51ffa20
CATEGORIES:
URL:https://spore-initiative.org/en/programming/participate/in-relation_ex
 hibition
END:VEVENT
BEGIN:VEVENT
SUMMARY:In Relation
DTSTART:20260430T150000
DTEND:20260430T200000
DTSTAMP:20260421T090136Z
UID:709f8166ce0840709b4a087b79520a4b
CATEGORIES:
URL:https://spore-initiative.org/en/programming/participate/in-relation_ex
 hibition
END:VEVENT
BEGIN:VEVENT
SUMMARY:In Relation
DTSTART:20260501T150000
DTEND:20260501T200000
DTSTAMP:20260421T090136Z
UID:0109dd9518fdb1d9b1f0726f8564f4bc
CATEGORIES:
URL:https://spore-initiative.org/en/programming/participate/in-relation_ex
 hibition
END:VEVENT
BEGIN:VEVENT
SUMMARY:In Relation
DTSTART:20260502T120000
DTEND:20260502T200000
DTSTAMP:20260421T090136Z
UID:3bb42d4ddee1d0791b4c031c690d9d9b
CATEGORIES:
URL:https://spore-initiative.org/en/programming/participate/in-relation_ex
 hibition
END:VEVENT
BEGIN:VEVENT
SUMMARY:In Relation
DTSTART:20260503T120000
DTEND:20260503T200000
DTSTAMP:20260421T090136Z
UID:7457fe0bf9e4426cfca8de702589bcb4
CATEGORIES:
URL:https://spore-initiative.org/en/programming/participate/in-relation_ex
 hibition
END:VEVENT
BEGIN:VEVENT
SUMMARY:In Relation
DTSTART:20260507T150000
DTEND:20260507T200000
DTSTAMP:20260421T090136Z
UID:8b94948c21ae8a2fe428fa6af3637e93
CATEGORIES:
URL:https://spore-initiative.org/en/programming/participate/in-relation_ex
 hibition
END:VEVENT
BEGIN:VEVENT
SUMMARY:In Relation
DTSTART:20260508T150000
DTEND:20260508T200000
DTSTAMP:20260421T090136Z
UID:67afd32db578c920fe83e201e2b15d55
CATEGORIES:
URL:https://spore-initiative.org/en/programming/participate/in-relation_ex
 hibition
END:VEVENT
BEGIN:VEVENT
SUMMARY:In Relation
DTSTART:20260509T120000
DTEND:20260509T200000
DTSTAMP:20260421T090136Z
UID:f28a14b63d7bf7fea573384883c7e98e
CATEGORIES:
URL:https://spore-initiative.org/en/programming/participate/in-relation_ex
 hibition
END:VEVENT
BEGIN:VEVENT
SUMMARY:In Relation
DTSTART:20260510T120000
DTEND:20260510T200000
DTSTAMP:20260421T090136Z
UID:c6eb79b286716b9721d8a9bd1cef93de
CATEGORIES:
URL:https://spore-initiative.org/en/programming/participate/in-relation_ex
 hibition
END:VEVENT
BEGIN:VEVENT
SUMMARY:In Relation
DTSTART:20260514T150000
DTEND:20260514T200000
DTSTAMP:20260421T090136Z
UID:6ae10f5e863b4197ded3e87c8ed8bb63
CATEGORIES:
URL:https://spore-initiative.org/en/programming/participate/in-relation_ex
 hibition
END:VEVENT
BEGIN:VEVENT
SUMMARY:In Relation
DTSTART:20260515T150000
DTEND:20260515T200000
DTSTAMP:20260421T090136Z
UID:ae934dfc1fbe57ec538d3ae6eb1da9fe
CATEGORIES:
URL:https://spore-initiative.org/en/programming/participate/in-relation_ex
 hibition
END:VEVENT
BEGIN:VEVENT
SUMMARY:In Relation
DTSTART:20260516T120000
DTEND:20260516T200000
DTSTAMP:20260421T090136Z
UID:3d9997cd2b931f1f1cd4223da89fd29d
CATEGORIES:
URL:https://spore-initiative.org/en/programming/participate/in-relation_ex
 hibition
END:VEVENT
BEGIN:VEVENT
SUMMARY:In Relation
DTSTART:20260517T120000
DTEND:20260517T200000
DTSTAMP:20260421T090136Z
UID:3479fb8330b9f566c79f63c05dbb89d8
CATEGORIES:
URL:https://spore-initiative.org/en/programming/participate/in-relation_ex
 hibition
END:VEVENT
BEGIN:VEVENT
SUMMARY:In Relation
DTSTART:20260521T150000
DTEND:20260521T200000
DTSTAMP:20260421T090136Z
UID:70ce8df3d34899b94f5bc84476da3447
CATEGORIES:
URL:https://spore-initiative.org/en/programming/participate/in-relation_ex
 hibition
END:VEVENT
BEGIN:VEVENT
SUMMARY:In Relation
DTSTART:20260522T150000
DTEND:20260522T200000
DTSTAMP:20260421T090136Z
UID:ba27c2ea3820fe49fcda94806a4b121c
CATEGORIES:
URL:https://spore-initiative.org/en/programming/participate/in-relation_ex
 hibition
END:VEVENT
BEGIN:VEVENT
SUMMARY:In Relation
DTSTART:20260523T120000
DTEND:20260523T200000
DTSTAMP:20260421T090136Z
UID:0f968ae703ccb304dc97118f94eac932
CATEGORIES:
URL:https://spore-initiative.org/en/programming/participate/in-relation_ex
 hibition
END:VEVENT
BEGIN:VEVENT
SUMMARY:In Relation
DTSTART:20260524T120000
DTEND:20260524T200000
DTSTAMP:20260421T090136Z
UID:bc38d350518e17e7698326ce2940b541
CATEGORIES:
URL:https://spore-initiative.org/en/programming/participate/in-relation_ex
 hibition
END:VEVENT
BEGIN:VEVENT
SUMMARY:In Relation
DTSTART:20260528T150000
DTEND:20260528T200000
DTSTAMP:20260421T090136Z
UID:9960782e4ffb08a2b4132d8c29f31927
CATEGORIES:
URL:https://spore-initiative.org/en/programming/participate/in-relation_ex
 hibition
END:VEVENT
BEGIN:VEVENT
SUMMARY:In Relation
DTSTART:20260529T150000
DTEND:20260529T200000
DTSTAMP:20260421T090136Z
UID:192965d2014e2d9b68b3ab5328d9b091
CATEGORIES:
URL:https://spore-initiative.org/en/programming/participate/in-relation_ex
 hibition
END:VEVENT
BEGIN:VEVENT
SUMMARY:In Relation
DTSTART:20260530T120000
DTEND:20260530T200000
DTSTAMP:20260421T090136Z
UID:c666d9ce9c10e8a195730251e168e5c0
CATEGORIES:
URL:https://spore-initiative.org/en/programming/participate/in-relation_ex
 hibition
END:VEVENT
BEGIN:VEVENT
SUMMARY:In Relation
DTSTART:20260531T120000
DTEND:20260531T200000
DTSTAMP:20260421T090136Z
UID:9e90317fe9bcb39b49fac0c5527dee69
CATEGORIES:
URL:https://spore-initiative.org/en/programming/participate/in-relation_ex
 hibition
END:VEVENT
BEGIN:VEVENT
SUMMARY:In Relation
DTSTART:20260604T150000
DTEND:20260604T200000
DTSTAMP:20260421T090136Z
UID:b8aa636532021f87c1764c75228ba604
CATEGORIES:
URL:https://spore-initiative.org/en/programming/participate/in-relation_ex
 hibition
END:VEVENT
BEGIN:VEVENT
SUMMARY:In Relation
DTSTART:20260605T150000
DTEND:20260605T200000
DTSTAMP:20260421T090136Z
UID:322f083128c77e22ced5278c5f440f71
CATEGORIES:
URL:https://spore-initiative.org/en/programming/participate/in-relation_ex
 hibition
END:VEVENT
BEGIN:VEVENT
SUMMARY:In Relation
DTSTART:20260606T120000
DTEND:20260606T200000
DTSTAMP:20260421T090136Z
UID:c0a0d3304e5091a1a38f9fd3df93efc6
CATEGORIES:
URL:https://spore-initiative.org/en/programming/participate/in-relation_ex
 hibition
END:VEVENT
BEGIN:VEVENT
SUMMARY:In Relation
DTSTART:20260607T120000
DTEND:20260607T200000
DTSTAMP:20260421T090136Z
UID:2b16dd18454cbd74f42ce93040631bb4
CATEGORIES:
URL:https://spore-initiative.org/en/programming/participate/in-relation_ex
 hibition
END:VEVENT
BEGIN:VEVENT
SUMMARY:In Relation
DTSTART:20260611T150000
DTEND:20260611T200000
DTSTAMP:20260421T090136Z
UID:bb390719df36cb26c77d84601c24a107
CATEGORIES:
URL:https://spore-initiative.org/en/programming/participate/in-relation_ex
 hibition
END:VEVENT
BEGIN:VEVENT
SUMMARY:In Relation
DTSTART:20260612T150000
DTEND:20260612T200000
DTSTAMP:20260421T090136Z
UID:6f494b1a5d71f11c20795704ecdbbce7
CATEGORIES:
URL:https://spore-initiative.org/en/programming/participate/in-relation_ex
 hibition
END:VEVENT
BEGIN:VEVENT
SUMMARY:In Relation
DTSTART:20260613T120000
DTEND:20260613T200000
DTSTAMP:20260421T090136Z
UID:391b4452e4f9eace514ffa2707e1ff09
CATEGORIES:
URL:https://spore-initiative.org/en/programming/participate/in-relation_ex
 hibition
END:VEVENT
BEGIN:VEVENT
SUMMARY:In Relation
DTSTART:20260614T120000
DTEND:20260614T200000
DTSTAMP:20260421T090136Z
UID:351471bd95647b4b240cbdc4874cdd0c
CATEGORIES:
URL:https://spore-initiative.org/en/programming/participate/in-relation_ex
 hibition
END:VEVENT
BEGIN:VEVENT
SUMMARY:In Relation
DTSTART:20260618T150000
DTEND:20260618T200000
DTSTAMP:20260421T090136Z
UID:0c181274b51898022ce81284feac2b34
CATEGORIES:
URL:https://spore-initiative.org/en/programming/participate/in-relation_ex
 hibition
END:VEVENT
BEGIN:VEVENT
SUMMARY:In Relation
DTSTART:20260619T150000
DTEND:20260619T200000
DTSTAMP:20260421T090136Z
UID:2322e98c299bffca848ec5055d9f5545
CATEGORIES:
URL:https://spore-initiative.org/en/programming/participate/in-relation_ex
 hibition
END:VEVENT
BEGIN:VEVENT
SUMMARY:In Relation
DTSTART:20260620T120000
DTEND:20260620T200000
DTSTAMP:20260421T090136Z
UID:448b21c448d03512620b590543fff1c2
CATEGORIES:
URL:https://spore-initiative.org/en/programming/participate/in-relation_ex
 hibition
END:VEVENT
BEGIN:VEVENT
SUMMARY:In Relation
DTSTART:20260621T120000
DTEND:20260621T200000
DTSTAMP:20260421T090136Z
UID:1276ce1942693e3e1772d22adaef8533
CATEGORIES:
URL:https://spore-initiative.org/en/programming/participate/in-relation_ex
 hibition
END:VEVENT
END:VCALENDAR
