BEGIN:VCALENDAR
VERSION:2.0
PRODID:4c9040bc-e2fb-404b-b427-4725bb88d0dc
CALSCALE:GREGORIAN
METHOD:PUBLISH
X-WR-CALDESC:Concert
X-WR-CALNAME:Organism: In Turbulence
BEGIN:VEVENT
SUMMARY:Organism: In Turbulence
DTSTART:20260324T183000
DTEND:20260325T192000
DTSTAMP:20260419T150537Z
UID:6ff5f1d96fb9acd5cfd767898f3b1c0d
CATEGORIES:
URL:https://spore-initiative.org/en/programming/participate/organism-in-tu
 rbulence
END:VEVENT
END:VCALENDAR
