BEGIN:VCALENDAR
VERSION:2.0
PRODID:15ec011c-ad21-4fe1-9c4a-7a62d75fe17a
CALSCALE:GREGORIAN
METHOD:PUBLISH
X-WR-CALDESC:Installation by Navid Navab / Garnet Willis as part of the Ma
 erzMusik festival
X-WR-CALNAME:Organism + Excitable Chaos
BEGIN:VEVENT
SUMMARY:Organism + Excitable Chaos
DTSTART:20260320T150000
DTEND:20260320T200000
DTSTAMP:20260423T104208Z
UID:69f2489c8e9e67573b915a99f09f4164
CATEGORIES:
URL:https://spore-initiative.org/en/programming/participate/organism-excit
 able-chaos
END:VEVENT
BEGIN:VEVENT
SUMMARY:Organism + Excitable Chaos
DTSTART:20260321T120000
DTEND:20260321T200000
DTSTAMP:20260423T104208Z
UID:d54dd3552fc58414be9dc3a74b0376df
CATEGORIES:
URL:https://spore-initiative.org/en/programming/participate/organism-excit
 able-chaos
END:VEVENT
BEGIN:VEVENT
SUMMARY:Organism + Excitable Chaos
DTSTART:20260322T120000
DTEND:20260322T200000
DTSTAMP:20260423T104208Z
UID:d47fb7f361e1150a5ea86ce8fc8a3c6e
CATEGORIES:
URL:https://spore-initiative.org/en/programming/participate/organism-excit
 able-chaos
END:VEVENT
BEGIN:VEVENT
SUMMARY:Organism + Excitable Chaos
DTSTART:20260326T150000
DTEND:20260326T200000
DTSTAMP:20260423T104208Z
UID:42ccd42416ad00a3bd8b14d3974f5051
CATEGORIES:
URL:https://spore-initiative.org/en/programming/participate/organism-excit
 able-chaos
END:VEVENT
BEGIN:VEVENT
SUMMARY:Organism + Excitable Chaos
DTSTART:20260327T150000
DTEND:20260327T200000
DTSTAMP:20260423T104208Z
UID:d73b09a5c02fb0124ac353fa5c25630b
CATEGORIES:
URL:https://spore-initiative.org/en/programming/participate/organism-excit
 able-chaos
END:VEVENT
BEGIN:VEVENT
SUMMARY:Organism + Excitable Chaos
DTSTART:20260328T120000
DTEND:20260328T200000
DTSTAMP:20260423T104208Z
UID:8a12271d2f7a5d0283a1a0ad1d861e30
CATEGORIES:
URL:https://spore-initiative.org/en/programming/participate/organism-excit
 able-chaos
END:VEVENT
BEGIN:VEVENT
SUMMARY:Organism + Excitable Chaos
DTSTART:20260329T120000
DTEND:20260329T200000
DTSTAMP:20260423T104208Z
UID:da7d887bd0f31043a318b6123b8702b1
CATEGORIES:
URL:https://spore-initiative.org/en/programming/participate/organism-excit
 able-chaos
END:VEVENT
END:VCALENDAR
