BEGIN:VCALENDAR
VERSION:2.0
PRODID:94fe2cb4-8693-42c5-ae0f-f10efc5d3474
CALSCALE:GREGORIAN
METHOD:PUBLISH
X-WR-CALDESC:A critical discussion on the goals and consequences of politi
 cal\, economic\, and social punitive measures
X-WR-CALNAME:Zeit zu reden international: Sanctions and Boycotts as Politi
 cal Leverage
BEGIN:VEVENT
SUMMARY:Zeit zu reden international: Sanctions and Boycotts as Political L
 everage
DTSTART:20260219T190000
DTEND:20260219T220000
DTSTAMP:20260420T103003Z
UID:96af992f21458f5c4ee3f9e353e87861
CATEGORIES:
URL:https://spore-initiative.org/en/programming/participate/spore-hosts-ze
 it-zu-reden-international-sanctions-and-boycotts-as-political-leverage
END:VEVENT
END:VCALENDAR
