BEGIN:VCALENDAR
VERSION:2.0
PRODID:5f4c7a27-7d59-4b51-8184-13df30c7a89f
CALSCALE:GREGORIAN
METHOD:PUBLISH
X-WR-CALDESC:​​Somatic workshop​
X-WR-CALNAME:Collective Care Circle for Iran – حلقه‌ی مراقب
 ت و همدلی
BEGIN:VEVENT
SUMMARY:Collective Care Circle for Iran – حلقه‌ی مراقبت و 
 همدلی
DTSTART:20260201T160000
DTEND:20260201T190000
DTSTAMP:20260422T140742Z
UID:eafed2bc29741098cc1b381998d3c575
CATEGORIES:
URL:https://spore-initiative.org/en/programming/participate/collective-car
 e-circle-for-iran-hlkh-mrkbt-o-hmdl
END:VEVENT
END:VCALENDAR
