BEGIN:VCALENDAR
VERSION:2.0
PRODID:cd7d2db1-1c7e-4922-849e-e48063a742ab
CALSCALE:GREGORIAN
METHOD:PUBLISH
X-WR-CALDESC:Thinking Sumud and Clinical Work in extremis with Samah Jabr\
 , Panel Discussion
X-WR-CALNAME:War\, Transgenerational trauma\, land dispossession and on-go
 ing settler colonialism
BEGIN:VEVENT
SUMMARY:War\, Transgenerational trauma\, land dispossession and on-going s
 ettler colonialism
DTSTART:20260128T190000
DTEND:20260128T203000
DTSTAMP:20260422T105405Z
UID:7b7e16a56a481ca04bbc5e03253d8a0a
CATEGORIES:
URL:https://spore-initiative.org/en/programming/participate/war-transgener
 ational-trauma-land-dispossession-and-on-going-settler-colonialism
END:VEVENT
END:VCALENDAR
