BEGIN:VCALENDAR
VERSION:2.0
PRODID:c03e9993-6777-42c4-af07-5c6d2baeb617
CALSCALE:GREGORIAN
METHOD:PUBLISH
X-WR-CALDESC:A discussion about media attacks\, impending funding cuts and
  political interference.
X-WR-CALNAME:Zeit zu reden: Civil Society Under Pressure
BEGIN:VEVENT
SUMMARY:Zeit zu reden: Civil Society Under Pressure
DTSTART:20260122T190000
DTEND:20260122T220000
DTSTAMP:20260422T155536Z
UID:a6ff7df7d794250b9be2806eeaba00e2
CATEGORIES:
URL:https://spore-initiative.org/en/programming/participate/zeit-zu-reden-
 civil-society-under-pressure
END:VEVENT
END:VCALENDAR
