BEGIN:VCALENDAR
VERSION:2.0
PRODID:afd0b0fd-6c44-4ee2-9730-0eacc5f4a3c7
CALSCALE:GREGORIAN
METHOD:PUBLISH
X-WR-CALDESC:A workshop with food systems changemakers from Brazil\, Niger
 ia and the Philippines.
X-WR-CALNAME:Seeds of Change
BEGIN:VEVENT
SUMMARY:Seeds of Change
DTSTART:20260124T140000
DTEND:20260124T163000
DTSTAMP:20260425T174945Z
UID:a6a05972cfe5dae62b668f415633e5d2
CATEGORIES:
URL:https://spore-initiative.org/en/programming/participate/seeds-of-chang
 e
END:VEVENT
END:VCALENDAR
