BEGIN:VCALENDAR
VERSION:2.0
PRODID:b8c29b41-c47b-4a1c-bd9f-da11644aa833
CALSCALE:GREGORIAN
METHOD:PUBLISH
X-WR-CALDESC:Cultures of and against extractivism in Macedonias\, Kurdista
 ns\, and Armenias.
X-WR-CALNAME:Beyond Earthmoving
BEGIN:VEVENT
SUMMARY:Beyond Earthmoving
DTSTART:20260131T130000
DTEND:20260131T180000
DTSTAMP:20260425T175345Z
UID:cec436ed7c4d1666fbaca6381ce79d38
CATEGORIES:
URL:https://spore-initiative.org/en/programming/participate/beyond-earthmo
 ving
END:VEVENT
END:VCALENDAR
