BEGIN:VCALENDAR
VERSION:2.0
PRODID:24598ace-1d66-4236-bd08-119c19bbf566
CALSCALE:GREGORIAN
METHOD:PUBLISH
X-WR-CALDESC:When you imagine a future Germany\, what do you see? A faire
 r nation built on care and equality – or something much more sinister? 
  Both? Neither?  Can you imagine a future at all?
X-WR-CALNAME:Zwischen Tür und Zukunft (Between Threshold and Future)
BEGIN:VEVENT
SUMMARY:Zwischen Tür und Zukunft (Between Threshold and Future)
DTSTART:20260108T150000
DTEND:20260108T200000
DTSTAMP:20260422T174412Z
UID:11667cebbd3629a78ac4943bad5aa4ce
CATEGORIES:
URL:https://spore-initiative.org/en/programming/participate/between-thresh
 old-and-future-zwischen-tur-und-zukunft-exhibition
END:VEVENT
BEGIN:VEVENT
SUMMARY:Zwischen Tür und Zukunft (Between Threshold and Future)
DTSTART:20260109T150000
DTEND:20260109T200000
DTSTAMP:20260422T174412Z
UID:555cb325a1e8dfa7001555fcd884a118
CATEGORIES:
URL:https://spore-initiative.org/en/programming/participate/between-thresh
 old-and-future-zwischen-tur-und-zukunft-exhibition
END:VEVENT
BEGIN:VEVENT
SUMMARY:Zwischen Tür und Zukunft (Between Threshold and Future)
DTSTART:20260110T120000
DTEND:20260110T200000
DTSTAMP:20260422T174412Z
UID:e3653898af506ae0500a10efdf9ddfca
CATEGORIES:
URL:https://spore-initiative.org/en/programming/participate/between-thresh
 old-and-future-zwischen-tur-und-zukunft-exhibition
END:VEVENT
BEGIN:VEVENT
SUMMARY:Zwischen Tür und Zukunft (Between Threshold and Future)
DTSTART:20260111T120000
DTEND:20260111T200000
DTSTAMP:20260422T174412Z
UID:3a3b4fb19aae932c6cb614cb37a5789b
CATEGORIES:
URL:https://spore-initiative.org/en/programming/participate/between-thresh
 old-and-future-zwischen-tur-und-zukunft-exhibition
END:VEVENT
BEGIN:VEVENT
SUMMARY:Zwischen Tür und Zukunft (Between Threshold and Future)
DTSTART:20260115T150000
DTEND:20260115T200000
DTSTAMP:20260422T174412Z
UID:516809a527bddce42decbd91a503e092
CATEGORIES:
URL:https://spore-initiative.org/en/programming/participate/between-thresh
 old-and-future-zwischen-tur-und-zukunft-exhibition
END:VEVENT
BEGIN:VEVENT
SUMMARY:Zwischen Tür und Zukunft (Between Threshold and Future)
DTSTART:20260116T150000
DTEND:20260116T200000
DTSTAMP:20260422T174412Z
UID:49dad6da1a4a95d3c544dd0c4a316cbb
CATEGORIES:
URL:https://spore-initiative.org/en/programming/participate/between-thresh
 old-and-future-zwischen-tur-und-zukunft-exhibition
END:VEVENT
BEGIN:VEVENT
SUMMARY:Zwischen Tür und Zukunft (Between Threshold and Future)
DTSTART:20260117T120000
DTEND:20260117T200000
DTSTAMP:20260422T174412Z
UID:bc99aa4c43e7a13408506e439cabdca2
CATEGORIES:
URL:https://spore-initiative.org/en/programming/participate/between-thresh
 old-and-future-zwischen-tur-und-zukunft-exhibition
END:VEVENT
BEGIN:VEVENT
SUMMARY:Zwischen Tür und Zukunft (Between Threshold and Future)
DTSTART:20260118T120000
DTEND:20260118T200000
DTSTAMP:20260422T174412Z
UID:7c7de590b17bb6f88f070c180388e5c6
CATEGORIES:
URL:https://spore-initiative.org/en/programming/participate/between-thresh
 old-and-future-zwischen-tur-und-zukunft-exhibition
END:VEVENT
BEGIN:VEVENT
SUMMARY:Zwischen Tür und Zukunft (Between Threshold and Future)
DTSTART:20260122T150000
DTEND:20260122T200000
DTSTAMP:20260422T174412Z
UID:e08aefd85600684b0078be773788f4ae
CATEGORIES:
URL:https://spore-initiative.org/en/programming/participate/between-thresh
 old-and-future-zwischen-tur-und-zukunft-exhibition
END:VEVENT
BEGIN:VEVENT
SUMMARY:Zwischen Tür und Zukunft (Between Threshold and Future)
DTSTART:20260123T150000
DTEND:20260123T200000
DTSTAMP:20260422T174412Z
UID:eee61a9ef3d5639630508f7189bd9f3f
CATEGORIES:
URL:https://spore-initiative.org/en/programming/participate/between-thresh
 old-and-future-zwischen-tur-und-zukunft-exhibition
END:VEVENT
BEGIN:VEVENT
SUMMARY:Zwischen Tür und Zukunft (Between Threshold and Future)
DTSTART:20260124T120000
DTEND:20260124T200000
DTSTAMP:20260422T174412Z
UID:c52830e5e05e679ef70fab02622a3365
CATEGORIES:
URL:https://spore-initiative.org/en/programming/participate/between-thresh
 old-and-future-zwischen-tur-und-zukunft-exhibition
END:VEVENT
BEGIN:VEVENT
SUMMARY:Zwischen Tür und Zukunft (Between Threshold and Future)
DTSTART:20260125T120000
DTEND:20260125T200000
DTSTAMP:20260422T174412Z
UID:29c938d4d19f7e1bbe2b9d5c22e10bdd
CATEGORIES:
URL:https://spore-initiative.org/en/programming/participate/between-thresh
 old-and-future-zwischen-tur-und-zukunft-exhibition
END:VEVENT
BEGIN:VEVENT
SUMMARY:Zwischen Tür und Zukunft (Between Threshold and Future)
DTSTART:20260129T150000
DTEND:20260129T200000
DTSTAMP:20260422T174412Z
UID:7132e3fe376fda16c745393a2dfebca0
CATEGORIES:
URL:https://spore-initiative.org/en/programming/participate/between-thresh
 old-and-future-zwischen-tur-und-zukunft-exhibition
END:VEVENT
BEGIN:VEVENT
SUMMARY:Zwischen Tür und Zukunft (Between Threshold and Future)
DTSTART:20260130T150000
DTEND:20260130T200000
DTSTAMP:20260422T174412Z
UID:88e3fdfea0247e43b1c88831906b4773
CATEGORIES:
URL:https://spore-initiative.org/en/programming/participate/between-thresh
 old-and-future-zwischen-tur-und-zukunft-exhibition
END:VEVENT
BEGIN:VEVENT
SUMMARY:Zwischen Tür und Zukunft (Between Threshold and Future)
DTSTART:20260131T120000
DTEND:20260131T200000
DTSTAMP:20260422T174412Z
UID:dd8b924962721d0574dd4b6b99cae709
CATEGORIES:
URL:https://spore-initiative.org/en/programming/participate/between-thresh
 old-and-future-zwischen-tur-und-zukunft-exhibition
END:VEVENT
BEGIN:VEVENT
SUMMARY:Zwischen Tür und Zukunft (Between Threshold and Future)
DTSTART:20260201T120000
DTEND:20260201T200000
DTSTAMP:20260422T174412Z
UID:4b00a9fb43e2290b3f6661cbf3de5521
CATEGORIES:
URL:https://spore-initiative.org/en/programming/participate/between-thresh
 old-and-future-zwischen-tur-und-zukunft-exhibition
END:VEVENT
BEGIN:VEVENT
SUMMARY:Zwischen Tür und Zukunft (Between Threshold and Future)
DTSTART:20260205T150000
DTEND:20260205T200000
DTSTAMP:20260422T174412Z
UID:efe32c9a4a8a4d1a6ff5b243146b6ca0
CATEGORIES:
URL:https://spore-initiative.org/en/programming/participate/between-thresh
 old-and-future-zwischen-tur-und-zukunft-exhibition
END:VEVENT
BEGIN:VEVENT
SUMMARY:Zwischen Tür und Zukunft (Between Threshold and Future)
DTSTART:20260206T150000
DTEND:20260206T200000
DTSTAMP:20260422T174412Z
UID:a6850dae2048049d633d99e98da3b2ed
CATEGORIES:
URL:https://spore-initiative.org/en/programming/participate/between-thresh
 old-and-future-zwischen-tur-und-zukunft-exhibition
END:VEVENT
BEGIN:VEVENT
SUMMARY:Zwischen Tür und Zukunft (Between Threshold and Future)
DTSTART:20260207T120000
DTEND:20260207T200000
DTSTAMP:20260422T174412Z
UID:252e3bbc543ef6bc2b4bf8b1dfe71500
CATEGORIES:
URL:https://spore-initiative.org/en/programming/participate/between-thresh
 old-and-future-zwischen-tur-und-zukunft-exhibition
END:VEVENT
BEGIN:VEVENT
SUMMARY:Zwischen Tür und Zukunft (Between Threshold and Future)
DTSTART:20260208T120000
DTEND:20260208T200000
DTSTAMP:20260422T174412Z
UID:60d99f411ed6b790fb040e988beeb9af
CATEGORIES:
URL:https://spore-initiative.org/en/programming/participate/between-thresh
 old-and-future-zwischen-tur-und-zukunft-exhibition
END:VEVENT
BEGIN:VEVENT
SUMMARY:Zwischen Tür und Zukunft (Between Threshold and Future)
DTSTART:20260212T150000
DTEND:20260212T200000
DTSTAMP:20260422T174412Z
UID:28750f6ed5cae48fe6039fc209ccefd9
CATEGORIES:
URL:https://spore-initiative.org/en/programming/participate/between-thresh
 old-and-future-zwischen-tur-und-zukunft-exhibition
END:VEVENT
BEGIN:VEVENT
SUMMARY:Zwischen Tür und Zukunft (Between Threshold and Future)
DTSTART:20260213T150000
DTEND:20260213T200000
DTSTAMP:20260422T174412Z
UID:2fcf386dea6c52c0cd35f4188c58d9f0
CATEGORIES:
URL:https://spore-initiative.org/en/programming/participate/between-thresh
 old-and-future-zwischen-tur-und-zukunft-exhibition
END:VEVENT
BEGIN:VEVENT
SUMMARY:Zwischen Tür und Zukunft (Between Threshold and Future)
DTSTART:20260214T120000
DTEND:20260214T200000
DTSTAMP:20260422T174412Z
UID:939299990062f228406c014d8b26ed3d
CATEGORIES:
URL:https://spore-initiative.org/en/programming/participate/between-thresh
 old-and-future-zwischen-tur-und-zukunft-exhibition
END:VEVENT
BEGIN:VEVENT
SUMMARY:Zwischen Tür und Zukunft (Between Threshold and Future)
DTSTART:20260215T120000
DTEND:20260215T200000
DTSTAMP:20260422T174412Z
UID:b39f99aea763f312f6bdcfc4eb930abf
CATEGORIES:
URL:https://spore-initiative.org/en/programming/participate/between-thresh
 old-and-future-zwischen-tur-und-zukunft-exhibition
END:VEVENT
BEGIN:VEVENT
SUMMARY:Zwischen Tür und Zukunft (Between Threshold and Future)
DTSTART:20260219T150000
DTEND:20260219T200000
DTSTAMP:20260422T174412Z
UID:2fb514dc2eb0b3ccdda67ee6d74ac545
CATEGORIES:
URL:https://spore-initiative.org/en/programming/participate/between-thresh
 old-and-future-zwischen-tur-und-zukunft-exhibition
END:VEVENT
BEGIN:VEVENT
SUMMARY:Zwischen Tür und Zukunft (Between Threshold and Future)
DTSTART:20260220T150000
DTEND:20260220T200000
DTSTAMP:20260422T174412Z
UID:c357d01d28b460a1047f80617e13965f
CATEGORIES:
URL:https://spore-initiative.org/en/programming/participate/between-thresh
 old-and-future-zwischen-tur-und-zukunft-exhibition
END:VEVENT
BEGIN:VEVENT
SUMMARY:Zwischen Tür und Zukunft (Between Threshold and Future)
DTSTART:20260221T120000
DTEND:20260221T200000
DTSTAMP:20260422T174412Z
UID:c714531ff953736fb2584c2dac8e0285
CATEGORIES:
URL:https://spore-initiative.org/en/programming/participate/between-thresh
 old-and-future-zwischen-tur-und-zukunft-exhibition
END:VEVENT
BEGIN:VEVENT
SUMMARY:Zwischen Tür und Zukunft (Between Threshold and Future)
DTSTART:20260222T120000
DTEND:20260222T200000
DTSTAMP:20260422T174412Z
UID:88f366b91541938459e41d07ada96e05
CATEGORIES:
URL:https://spore-initiative.org/en/programming/participate/between-thresh
 old-and-future-zwischen-tur-und-zukunft-exhibition
END:VEVENT
BEGIN:VEVENT
SUMMARY:Zwischen Tür und Zukunft (Between Threshold and Future)
DTSTART:20260226T150000
DTEND:20260226T200000
DTSTAMP:20260422T174412Z
UID:0e946217d0234777357f08474baa190d
CATEGORIES:
URL:https://spore-initiative.org/en/programming/participate/between-thresh
 old-and-future-zwischen-tur-und-zukunft-exhibition
END:VEVENT
BEGIN:VEVENT
SUMMARY:Zwischen Tür und Zukunft (Between Threshold and Future)
DTSTART:20260227T150000
DTEND:20260227T200000
DTSTAMP:20260422T174412Z
UID:f667b64f346a3eaaec9f5ab5b2ebdf77
CATEGORIES:
URL:https://spore-initiative.org/en/programming/participate/between-thresh
 old-and-future-zwischen-tur-und-zukunft-exhibition
END:VEVENT
BEGIN:VEVENT
SUMMARY:Zwischen Tür und Zukunft (Between Threshold and Future)
DTSTART:20260228T120000
DTEND:20260228T200000
DTSTAMP:20260422T174412Z
UID:5f1bd371bc05e231dc403b595dbeeaa7
CATEGORIES:
URL:https://spore-initiative.org/en/programming/participate/between-thresh
 old-and-future-zwischen-tur-und-zukunft-exhibition
END:VEVENT
BEGIN:VEVENT
SUMMARY:Zwischen Tür und Zukunft (Between Threshold and Future)
DTSTART:20260301T120000
DTEND:20260301T200000
DTSTAMP:20260422T174412Z
UID:74c23608dd0b948f6e74fd1f2ce5d35b
CATEGORIES:
URL:https://spore-initiative.org/en/programming/participate/between-thresh
 old-and-future-zwischen-tur-und-zukunft-exhibition
END:VEVENT
BEGIN:VEVENT
SUMMARY:Zwischen Tür und Zukunft (Between Threshold and Future)
DTSTART:20251127T150000
DTEND:20251127T200000
DTSTAMP:20260422T174412Z
UID:2d0847a388af34f593c3b9b807e4434f
CATEGORIES:
URL:https://spore-initiative.org/en/programming/participate/between-thresh
 old-and-future-zwischen-tur-und-zukunft-exhibition
END:VEVENT
BEGIN:VEVENT
SUMMARY:Zwischen Tür und Zukunft (Between Threshold and Future)
DTSTART:20251128T150000
DTEND:20251128T200000
DTSTAMP:20260422T174412Z
UID:7bf84348da83f088f4719cca1efaea1c
CATEGORIES:
URL:https://spore-initiative.org/en/programming/participate/between-thresh
 old-and-future-zwischen-tur-und-zukunft-exhibition
END:VEVENT
BEGIN:VEVENT
SUMMARY:Zwischen Tür und Zukunft (Between Threshold and Future)
DTSTART:20251129T120000
DTEND:20251129T200000
DTSTAMP:20260422T174412Z
UID:b9810d86607b888935cf4cbf5cc45933
CATEGORIES:
URL:https://spore-initiative.org/en/programming/participate/between-thresh
 old-and-future-zwischen-tur-und-zukunft-exhibition
END:VEVENT
BEGIN:VEVENT
SUMMARY:Zwischen Tür und Zukunft (Between Threshold and Future)
DTSTART:20251130T120000
DTEND:20251130T200000
DTSTAMP:20260422T174412Z
UID:285998f0719436bc5aade90c66d0cc39
CATEGORIES:
URL:https://spore-initiative.org/en/programming/participate/between-thresh
 old-and-future-zwischen-tur-und-zukunft-exhibition
END:VEVENT
BEGIN:VEVENT
SUMMARY:Zwischen Tür und Zukunft (Between Threshold and Future)
DTSTART:20251204T150000
DTEND:20251204T200000
DTSTAMP:20260422T174412Z
UID:010cf4fdd7f35f66fe8b4418bdc0c254
CATEGORIES:
URL:https://spore-initiative.org/en/programming/participate/between-thresh
 old-and-future-zwischen-tur-und-zukunft-exhibition
END:VEVENT
BEGIN:VEVENT
SUMMARY:Zwischen Tür und Zukunft (Between Threshold and Future)
DTSTART:20251205T150000
DTEND:20251205T200000
DTSTAMP:20260422T174412Z
UID:69ed469d53edaebe2287bd5e2e8d0a13
CATEGORIES:
URL:https://spore-initiative.org/en/programming/participate/between-thresh
 old-and-future-zwischen-tur-und-zukunft-exhibition
END:VEVENT
BEGIN:VEVENT
SUMMARY:Zwischen Tür und Zukunft (Between Threshold and Future)
DTSTART:20251206T120000
DTEND:20251206T200000
DTSTAMP:20260422T174412Z
UID:17c9b429639ba41aa17cd30391c0dc4b
CATEGORIES:
URL:https://spore-initiative.org/en/programming/participate/between-thresh
 old-and-future-zwischen-tur-und-zukunft-exhibition
END:VEVENT
BEGIN:VEVENT
SUMMARY:Zwischen Tür und Zukunft (Between Threshold and Future)
DTSTART:20251207T120000
DTEND:20251207T200000
DTSTAMP:20260422T174412Z
UID:68c3bf2e4c07ca5eafd80f7bb889e8ed
CATEGORIES:
URL:https://spore-initiative.org/en/programming/participate/between-thresh
 old-and-future-zwischen-tur-und-zukunft-exhibition
END:VEVENT
BEGIN:VEVENT
SUMMARY:Zwischen Tür und Zukunft (Between Threshold and Future)
DTSTART:20251211T150000
DTEND:20251211T200000
DTSTAMP:20260422T174412Z
UID:f2c3dabd03ecc3c17baea2f5ccd40160
CATEGORIES:
URL:https://spore-initiative.org/en/programming/participate/between-thresh
 old-and-future-zwischen-tur-und-zukunft-exhibition
END:VEVENT
BEGIN:VEVENT
SUMMARY:Zwischen Tür und Zukunft (Between Threshold and Future)
DTSTART:20251212T150000
DTEND:20251212T200000
DTSTAMP:20260422T174412Z
UID:d9a3df360874fca154e921ab6f89e2b5
CATEGORIES:
URL:https://spore-initiative.org/en/programming/participate/between-thresh
 old-and-future-zwischen-tur-und-zukunft-exhibition
END:VEVENT
BEGIN:VEVENT
SUMMARY:Zwischen Tür und Zukunft (Between Threshold and Future)
DTSTART:20251213T120000
DTEND:20251213T200000
DTSTAMP:20260422T174412Z
UID:cc8dabcb594fdfdadc4322936fda7e92
CATEGORIES:
URL:https://spore-initiative.org/en/programming/participate/between-thresh
 old-and-future-zwischen-tur-und-zukunft-exhibition
END:VEVENT
BEGIN:VEVENT
SUMMARY:Zwischen Tür und Zukunft (Between Threshold and Future)
DTSTART:20251214T120000
DTEND:20251214T200000
DTSTAMP:20260422T174412Z
UID:b4291db6f657b6b0de13692dee11f6e2
CATEGORIES:
URL:https://spore-initiative.org/en/programming/participate/between-thresh
 old-and-future-zwischen-tur-und-zukunft-exhibition
END:VEVENT
BEGIN:VEVENT
SUMMARY:Zwischen Tür und Zukunft (Between Threshold and Future)
DTSTART:20251218T150000
DTEND:20251218T200000
DTSTAMP:20260422T174412Z
UID:f77d8e448aff00153a9353aa32866ee8
CATEGORIES:
URL:https://spore-initiative.org/en/programming/participate/between-thresh
 old-and-future-zwischen-tur-und-zukunft-exhibition
END:VEVENT
BEGIN:VEVENT
SUMMARY:Zwischen Tür und Zukunft (Between Threshold and Future)
DTSTART:20251219T150000
DTEND:20251219T200000
DTSTAMP:20260422T174412Z
UID:d49d6224c7e881b27a643f4f3400f527
CATEGORIES:
URL:https://spore-initiative.org/en/programming/participate/between-thresh
 old-and-future-zwischen-tur-und-zukunft-exhibition
END:VEVENT
BEGIN:VEVENT
SUMMARY:Zwischen Tür und Zukunft (Between Threshold and Future)
DTSTART:20251220T120000
DTEND:20251220T200000
DTSTAMP:20260422T174412Z
UID:bf1db87df922b38c12a3b3fd9170f78a
CATEGORIES:
URL:https://spore-initiative.org/en/programming/participate/between-thresh
 old-and-future-zwischen-tur-und-zukunft-exhibition
END:VEVENT
BEGIN:VEVENT
SUMMARY:Zwischen Tür und Zukunft (Between Threshold and Future)
DTSTART:20251221T120000
DTEND:20251221T200000
DTSTAMP:20260422T174412Z
UID:a2542dc526037481bf66ab4487b82abf
CATEGORIES:
URL:https://spore-initiative.org/en/programming/participate/between-thresh
 old-and-future-zwischen-tur-und-zukunft-exhibition
END:VEVENT
END:VCALENDAR
