BEGIN:VCALENDAR
VERSION:2.0
PRODID:293fcbf1-ad95-4d4a-8310-c1ae1bf083ea
CALSCALE:GREGORIAN
METHOD:PUBLISH
X-WR-CALDESC:A critical discussion of a taboo and relevant concept in inte
 rnational law
X-WR-CALNAME:Zeit zu reden - Genocide: History\, Definition\, Usage
BEGIN:VEVENT
SUMMARY:Zeit zu reden - Genocide: History\, Definition\, Usage
DTSTART:20251113T190000
DTEND:20251113T220000
DTSTAMP:20260422T192337Z
UID:42260942a445a5f3fe3d4d56715cbabc
CATEGORIES:
URL:https://spore-initiative.org/en/programming/participate/zeit-zu-reden-
 genocide-history-definition-usage
END:VEVENT
END:VCALENDAR
