BEGIN:VCALENDAR
VERSION:2.0
PRODID:2a9c5d81-b42b-4712-b682-8e4a14641b67
CALSCALE:GREGORIAN
METHOD:PUBLISH
X-WR-CALDESC:A creative workshop for children from 6-10 years
X-WR-CALNAME:Julian is a mermaid
BEGIN:VEVENT
SUMMARY:Julian is a mermaid
DTSTART:20251030T163000
DTEND:20251030T183000
DTSTAMP:20260422T155537Z
UID:b0cbfdf632c331a2c257eb090403876b
CATEGORIES:
URL:https://spore-initiative.org/en/programming/participate/julian-is-a-me
 rmaid
END:VEVENT
END:VCALENDAR
