BEGIN:VCALENDAR
VERSION:2.0
PRODID:c6beeffb-5d63-4534-8809-3e3e597fd07b
CALSCALE:GREGORIAN
METHOD:PUBLISH
X-WR-CALDESC:An Evening of Feminist Economics. Keynote speech and panel di
 scussion followed by a Q&A session with the audience.
X-WR-CALNAME:Who Cares? Who Does it?
BEGIN:VEVENT
SUMMARY:Who Cares? Who Does it?
DTSTART:20251017T150000
DTEND:20251017T210000
DTSTAMP:20260422T211043Z
UID:db0b64b16b95cb8e428f32a128501133
CATEGORIES:
URL:https://spore-initiative.org/en/programming/participate/who-cares-who-
 does-it
END:VEVENT
END:VCALENDAR
