BEGIN:VCALENDAR
VERSION:2.0
PRODID:20484154-2ed7-4087-a4cc-0b1988fb9344
CALSCALE:GREGORIAN
METHOD:PUBLISH
X-WR-CALDESC:An immersive installation and Programm exploring safety\, hop
 e\, and life in the in-between
X-WR-CALNAME:Between Threshold and Future
BEGIN:VEVENT
SUMMARY:Between Threshold and Future
DTSTART:20251127T150000
DTEND:20251127T200000
DTSTAMP:20260423T190933Z
UID:2d0847a388af34f593c3b9b807e4434f
CATEGORIES:
URL:https://spore-initiative.org/en/programming/participate/between-thresh
 old-and-future
END:VEVENT
BEGIN:VEVENT
SUMMARY:Between Threshold and Future
DTSTART:20251128T150000
DTEND:20251128T200000
DTSTAMP:20260423T190933Z
UID:7bf84348da83f088f4719cca1efaea1c
CATEGORIES:
URL:https://spore-initiative.org/en/programming/participate/between-thresh
 old-and-future
END:VEVENT
BEGIN:VEVENT
SUMMARY:Between Threshold and Future
DTSTART:20251129T120000
DTEND:20251129T200000
DTSTAMP:20260423T190933Z
UID:b9810d86607b888935cf4cbf5cc45933
CATEGORIES:
URL:https://spore-initiative.org/en/programming/participate/between-thresh
 old-and-future
END:VEVENT
BEGIN:VEVENT
SUMMARY:Between Threshold and Future
DTSTART:20251130T120000
DTEND:20251130T200000
DTSTAMP:20260423T190933Z
UID:285998f0719436bc5aade90c66d0cc39
CATEGORIES:
URL:https://spore-initiative.org/en/programming/participate/between-thresh
 old-and-future
END:VEVENT
BEGIN:VEVENT
SUMMARY:Between Threshold and Future
DTSTART:20251204T150000
DTEND:20251204T200000
DTSTAMP:20260423T190933Z
UID:010cf4fdd7f35f66fe8b4418bdc0c254
CATEGORIES:
URL:https://spore-initiative.org/en/programming/participate/between-thresh
 old-and-future
END:VEVENT
BEGIN:VEVENT
SUMMARY:Between Threshold and Future
DTSTART:20251205T150000
DTEND:20251205T200000
DTSTAMP:20260423T190933Z
UID:69ed469d53edaebe2287bd5e2e8d0a13
CATEGORIES:
URL:https://spore-initiative.org/en/programming/participate/between-thresh
 old-and-future
END:VEVENT
BEGIN:VEVENT
SUMMARY:Between Threshold and Future
DTSTART:20251206T120000
DTEND:20251206T200000
DTSTAMP:20260423T190933Z
UID:17c9b429639ba41aa17cd30391c0dc4b
CATEGORIES:
URL:https://spore-initiative.org/en/programming/participate/between-thresh
 old-and-future
END:VEVENT
BEGIN:VEVENT
SUMMARY:Between Threshold and Future
DTSTART:20251207T120000
DTEND:20251207T200000
DTSTAMP:20260423T190933Z
UID:68c3bf2e4c07ca5eafd80f7bb889e8ed
CATEGORIES:
URL:https://spore-initiative.org/en/programming/participate/between-thresh
 old-and-future
END:VEVENT
BEGIN:VEVENT
SUMMARY:Between Threshold and Future
DTSTART:20251211T150000
DTEND:20251211T200000
DTSTAMP:20260423T190933Z
UID:f2c3dabd03ecc3c17baea2f5ccd40160
CATEGORIES:
URL:https://spore-initiative.org/en/programming/participate/between-thresh
 old-and-future
END:VEVENT
BEGIN:VEVENT
SUMMARY:Between Threshold and Future
DTSTART:20251212T150000
DTEND:20251212T200000
DTSTAMP:20260423T190933Z
UID:d9a3df360874fca154e921ab6f89e2b5
CATEGORIES:
URL:https://spore-initiative.org/en/programming/participate/between-thresh
 old-and-future
END:VEVENT
BEGIN:VEVENT
SUMMARY:Between Threshold and Future
DTSTART:20251213T120000
DTEND:20251213T200000
DTSTAMP:20260423T190933Z
UID:cc8dabcb594fdfdadc4322936fda7e92
CATEGORIES:
URL:https://spore-initiative.org/en/programming/participate/between-thresh
 old-and-future
END:VEVENT
BEGIN:VEVENT
SUMMARY:Between Threshold and Future
DTSTART:20251214T120000
DTEND:20251214T200000
DTSTAMP:20260423T190933Z
UID:b4291db6f657b6b0de13692dee11f6e2
CATEGORIES:
URL:https://spore-initiative.org/en/programming/participate/between-thresh
 old-and-future
END:VEVENT
BEGIN:VEVENT
SUMMARY:Between Threshold and Future
DTSTART:20251218T150000
DTEND:20251218T200000
DTSTAMP:20260423T190933Z
UID:f77d8e448aff00153a9353aa32866ee8
CATEGORIES:
URL:https://spore-initiative.org/en/programming/participate/between-thresh
 old-and-future
END:VEVENT
BEGIN:VEVENT
SUMMARY:Between Threshold and Future
DTSTART:20251219T150000
DTEND:20251219T200000
DTSTAMP:20260423T190933Z
UID:d49d6224c7e881b27a643f4f3400f527
CATEGORIES:
URL:https://spore-initiative.org/en/programming/participate/between-thresh
 old-and-future
END:VEVENT
BEGIN:VEVENT
SUMMARY:Between Threshold and Future
DTSTART:20251220T120000
DTEND:20251220T200000
DTSTAMP:20260423T190933Z
UID:bf1db87df922b38c12a3b3fd9170f78a
CATEGORIES:
URL:https://spore-initiative.org/en/programming/participate/between-thresh
 old-and-future
END:VEVENT
BEGIN:VEVENT
SUMMARY:Between Threshold and Future
DTSTART:20251221T120000
DTEND:20251221T200000
DTSTAMP:20260423T190933Z
UID:a2542dc526037481bf66ab4487b82abf
CATEGORIES:
URL:https://spore-initiative.org/en/programming/participate/between-thresh
 old-and-future
END:VEVENT
BEGIN:VEVENT
SUMMARY:Between Threshold and Future
DTSTART:20251225T150000
DTEND:20251225T200000
DTSTAMP:20260423T190933Z
UID:da6f62e13b80db04109e33b6f92b5c40
CATEGORIES:
URL:https://spore-initiative.org/en/programming/participate/between-thresh
 old-and-future
END:VEVENT
BEGIN:VEVENT
SUMMARY:Between Threshold and Future
DTSTART:20251226T150000
DTEND:20251226T200000
DTSTAMP:20260423T190933Z
UID:a55ffdc4e46b6e45c187a71a95047c42
CATEGORIES:
URL:https://spore-initiative.org/en/programming/participate/between-thresh
 old-and-future
END:VEVENT
BEGIN:VEVENT
SUMMARY:Between Threshold and Future
DTSTART:20251227T120000
DTEND:20251227T200000
DTSTAMP:20260423T190933Z
UID:eaf3890dd34259f90455c078123fb59f
CATEGORIES:
URL:https://spore-initiative.org/en/programming/participate/between-thresh
 old-and-future
END:VEVENT
BEGIN:VEVENT
SUMMARY:Between Threshold and Future
DTSTART:20251228T120000
DTEND:20251228T200000
DTSTAMP:20260423T190933Z
UID:cee4f6afd60cfae4ce612ecb9e230d1d
CATEGORIES:
URL:https://spore-initiative.org/en/programming/participate/between-thresh
 old-and-future
END:VEVENT
BEGIN:VEVENT
SUMMARY:Between Threshold and Future
DTSTART:20260101T150000
DTEND:20260101T200000
DTSTAMP:20260423T190933Z
UID:4f054957e26e01101fc550cf3ce66712
CATEGORIES:
URL:https://spore-initiative.org/en/programming/participate/between-thresh
 old-and-future
END:VEVENT
BEGIN:VEVENT
SUMMARY:Between Threshold and Future
DTSTART:20260102T150000
DTEND:20260102T200000
DTSTAMP:20260423T190933Z
UID:0b5096e5be76bd3dd88f9139699c6a18
CATEGORIES:
URL:https://spore-initiative.org/en/programming/participate/between-thresh
 old-and-future
END:VEVENT
BEGIN:VEVENT
SUMMARY:Between Threshold and Future
DTSTART:20260103T120000
DTEND:20260103T200000
DTSTAMP:20260423T190933Z
UID:8e7e22a2c9a506ebb317c3f9c57500ea
CATEGORIES:
URL:https://spore-initiative.org/en/programming/participate/between-thresh
 old-and-future
END:VEVENT
BEGIN:VEVENT
SUMMARY:Between Threshold and Future
DTSTART:20260104T120000
DTEND:20260104T200000
DTSTAMP:20260423T190933Z
UID:cb04b0496650d07333f3e94ea260ea7e
CATEGORIES:
URL:https://spore-initiative.org/en/programming/participate/between-thresh
 old-and-future
END:VEVENT
BEGIN:VEVENT
SUMMARY:Between Threshold and Future
DTSTART:20260108T150000
DTEND:20260108T200000
DTSTAMP:20260423T190933Z
UID:11667cebbd3629a78ac4943bad5aa4ce
CATEGORIES:
URL:https://spore-initiative.org/en/programming/participate/between-thresh
 old-and-future
END:VEVENT
BEGIN:VEVENT
SUMMARY:Between Threshold and Future
DTSTART:20260109T150000
DTEND:20260109T200000
DTSTAMP:20260423T190933Z
UID:555cb325a1e8dfa7001555fcd884a118
CATEGORIES:
URL:https://spore-initiative.org/en/programming/participate/between-thresh
 old-and-future
END:VEVENT
BEGIN:VEVENT
SUMMARY:Between Threshold and Future
DTSTART:20260110T120000
DTEND:20260110T200000
DTSTAMP:20260423T190933Z
UID:e3653898af506ae0500a10efdf9ddfca
CATEGORIES:
URL:https://spore-initiative.org/en/programming/participate/between-thresh
 old-and-future
END:VEVENT
BEGIN:VEVENT
SUMMARY:Between Threshold and Future
DTSTART:20260111T120000
DTEND:20260111T200000
DTSTAMP:20260423T190933Z
UID:3a3b4fb19aae932c6cb614cb37a5789b
CATEGORIES:
URL:https://spore-initiative.org/en/programming/participate/between-thresh
 old-and-future
END:VEVENT
BEGIN:VEVENT
SUMMARY:Between Threshold and Future
DTSTART:20260115T150000
DTEND:20260115T200000
DTSTAMP:20260423T190933Z
UID:516809a527bddce42decbd91a503e092
CATEGORIES:
URL:https://spore-initiative.org/en/programming/participate/between-thresh
 old-and-future
END:VEVENT
BEGIN:VEVENT
SUMMARY:Between Threshold and Future
DTSTART:20260116T150000
DTEND:20260116T200000
DTSTAMP:20260423T190933Z
UID:49dad6da1a4a95d3c544dd0c4a316cbb
CATEGORIES:
URL:https://spore-initiative.org/en/programming/participate/between-thresh
 old-and-future
END:VEVENT
BEGIN:VEVENT
SUMMARY:Between Threshold and Future
DTSTART:20260117T120000
DTEND:20260117T200000
DTSTAMP:20260423T190933Z
UID:bc99aa4c43e7a13408506e439cabdca2
CATEGORIES:
URL:https://spore-initiative.org/en/programming/participate/between-thresh
 old-and-future
END:VEVENT
BEGIN:VEVENT
SUMMARY:Between Threshold and Future
DTSTART:20260118T120000
DTEND:20260118T200000
DTSTAMP:20260423T190933Z
UID:7c7de590b17bb6f88f070c180388e5c6
CATEGORIES:
URL:https://spore-initiative.org/en/programming/participate/between-thresh
 old-and-future
END:VEVENT
BEGIN:VEVENT
SUMMARY:Between Threshold and Future
DTSTART:20260122T150000
DTEND:20260122T200000
DTSTAMP:20260423T190933Z
UID:e08aefd85600684b0078be773788f4ae
CATEGORIES:
URL:https://spore-initiative.org/en/programming/participate/between-thresh
 old-and-future
END:VEVENT
BEGIN:VEVENT
SUMMARY:Between Threshold and Future
DTSTART:20260123T150000
DTEND:20260123T200000
DTSTAMP:20260423T190933Z
UID:eee61a9ef3d5639630508f7189bd9f3f
CATEGORIES:
URL:https://spore-initiative.org/en/programming/participate/between-thresh
 old-and-future
END:VEVENT
BEGIN:VEVENT
SUMMARY:Between Threshold and Future
DTSTART:20260124T120000
DTEND:20260124T200000
DTSTAMP:20260423T190933Z
UID:c52830e5e05e679ef70fab02622a3365
CATEGORIES:
URL:https://spore-initiative.org/en/programming/participate/between-thresh
 old-and-future
END:VEVENT
BEGIN:VEVENT
SUMMARY:Between Threshold and Future
DTSTART:20260125T120000
DTEND:20260125T200000
DTSTAMP:20260423T190933Z
UID:29c938d4d19f7e1bbe2b9d5c22e10bdd
CATEGORIES:
URL:https://spore-initiative.org/en/programming/participate/between-thresh
 old-and-future
END:VEVENT
BEGIN:VEVENT
SUMMARY:Between Threshold and Future
DTSTART:20260129T150000
DTEND:20260129T200000
DTSTAMP:20260423T190933Z
UID:7132e3fe376fda16c745393a2dfebca0
CATEGORIES:
URL:https://spore-initiative.org/en/programming/participate/between-thresh
 old-and-future
END:VEVENT
BEGIN:VEVENT
SUMMARY:Between Threshold and Future
DTSTART:20260130T150000
DTEND:20260130T200000
DTSTAMP:20260423T190933Z
UID:88e3fdfea0247e43b1c88831906b4773
CATEGORIES:
URL:https://spore-initiative.org/en/programming/participate/between-thresh
 old-and-future
END:VEVENT
BEGIN:VEVENT
SUMMARY:Between Threshold and Future
DTSTART:20260131T120000
DTEND:20260131T200000
DTSTAMP:20260423T190933Z
UID:dd8b924962721d0574dd4b6b99cae709
CATEGORIES:
URL:https://spore-initiative.org/en/programming/participate/between-thresh
 old-and-future
END:VEVENT
BEGIN:VEVENT
SUMMARY:Between Threshold and Future
DTSTART:20260201T120000
DTEND:20260201T200000
DTSTAMP:20260423T190933Z
UID:4b00a9fb43e2290b3f6661cbf3de5521
CATEGORIES:
URL:https://spore-initiative.org/en/programming/participate/between-thresh
 old-and-future
END:VEVENT
END:VCALENDAR
