BEGIN:VCALENDAR
VERSION:2.0
PRODID:41438302-219d-49d5-8bac-b1235e6d6070
CALSCALE:GREGORIAN
METHOD:PUBLISH
X-WR-CALDESC:A discussion on strategies against dehumanization and radical
 ization
X-WR-CALNAME:Time to Talk: Misunderstood\, Defamed\, Criminalized – Soli
 darity with Palestine in Germany
BEGIN:VEVENT
SUMMARY:Time to Talk: Misunderstood\, Defamed\, Criminalized – Solidarit
 y with Palestine in Germany
DTSTART:20251016T190000
DTEND:20251016T220000
DTSTAMP:20260422T140751Z
UID:5d9113573ab60e0c40568e13e330fde5
CATEGORIES:
URL:https://spore-initiative.org/en/programming/participate/time-to-talk-m
 isunderstood-defamed-criminalized-solidarity-with-palestine-in-germany
END:VEVENT
END:VCALENDAR
