BEGIN:VCALENDAR
VERSION:2.0
PRODID:11f2160d-db72-46e6-a3d9-830fe2edf991
CALSCALE:GREGORIAN
METHOD:PUBLISH
X-WR-CALDESC:A creative workshop for children from 6-10 years
X-WR-CALNAME:Etwas Schwarzes
BEGIN:VEVENT
SUMMARY:Etwas Schwarzes
DTSTART:20251211T163000
DTEND:20251211T183000
DTSTAMP:20260422T155536Z
UID:36e177c097fb5bbb4ca9b50da1121488
CATEGORIES:
URL:https://spore-initiative.org/en/programming/participate/etwas-schwarze
 s
END:VEVENT
END:VCALENDAR
