BEGIN:VCALENDAR
VERSION:2.0
PRODID:fe9315fd-4d84-4dfd-9ab0-945efbf6412c
CALSCALE:GREGORIAN
METHOD:PUBLISH
X-WR-CALDESC:An open exchange between human rights researchers and activis
 ts\, educators\, community organizers\, artists\, cultural workers and civ
 il society representatives
X-WR-CALNAME:Land\, Law\, and Hierarchies of extraction and exploitation
BEGIN:VEVENT
SUMMARY:Land\, Law\, and Hierarchies of extraction and exploitation
DTSTART:20250909T170000
DTEND:20250909T200000
DTSTAMP:20260422T144359Z
UID:fce2fe553763f25e09641f75aad23608
CATEGORIES:
URL:https://spore-initiative.org/en/programming/participate/land-law-and-h
 ierarchies-of-extraction-and-exploitation
END:VEVENT
END:VCALENDAR
