BEGIN:VCALENDAR
VERSION:2.0
PRODID:b3017b5b-6799-4b75-a812-9f11bbd4a7c8
CALSCALE:GREGORIAN
METHOD:PUBLISH
X-WR-CALDESC:Feminist Sustainable Theatre
X-WR-CALNAME:Whose Water?
BEGIN:VEVENT
SUMMARY:Whose Water?
DTSTART:20250927T193000
DTEND:20250927T210000
DTSTAMP:20260422T192337Z
UID:0f772475539033de9169863d2cbb499e
CATEGORIES:
URL:https://spore-initiative.org/en/programming/participate/whose-water
END:VEVENT
BEGIN:VEVENT
SUMMARY:Whose Water?
DTSTART:20250926T193000
DTEND:20250926T210000
DTSTAMP:20260422T192337Z
UID:b3e047f6859e8f9b46264c034023cee3
CATEGORIES:
URL:https://spore-initiative.org/en/programming/participate/whose-water
END:VEVENT
END:VCALENDAR
