BEGIN:VCALENDAR
VERSION:2.0
PRODID:9d0e2a40-838d-4d75-9c11-1df60beff715
CALSCALE:GREGORIAN
METHOD:PUBLISH
X-WR-CALDESC:Reading
X-WR-CALNAME:Behind (open) closed doors. Adultism and critical adulthood
BEGIN:VEVENT
SUMMARY:Behind (open) closed doors. Adultism and critical adulthood
DTSTART:20250725T180000
DTEND:20250725T200000
DTSTAMP:20260422T180653Z
UID:138d5d79ff4d7df4c96d7e78806e55ac
CATEGORIES:
URL:https://spore-initiative.org/en/programming/participate/behind-open-cl
 osed-doors-adultism-and-critical-adulthood
END:VEVENT
END:VCALENDAR
