BEGIN:VCALENDAR
VERSION:2.0
PRODID:aa7b940e-6c8e-4a12-92e2-f40390f6f079
CALSCALE:GREGORIAN
METHOD:PUBLISH
X-WR-CALDESC:On (Im)possible Solution Scenarios for Israel and Palestine
X-WR-CALNAME:Zeit zu Reden: One State for All or Two States Side by Side?
BEGIN:VEVENT
SUMMARY:Zeit zu Reden: One State for All or Two States Side by Side?
DTSTART:20250625T190000
DTEND:20250625T220000
DTSTAMP:20260420T082523Z
UID:06c6da186b54a3fa097f532fc6c1b672
CATEGORIES:
URL:https://spore-initiative.org/en/programming/participate/one-state-for-
 all-or-two-states-side-by-side
END:VEVENT
END:VCALENDAR
