BEGIN:VCALENDAR
VERSION:2.0
PRODID:371579c6-17bc-496e-a62b-3b2cf177d78d
CALSCALE:GREGORIAN
METHOD:PUBLISH
X-WR-CALDESC:Association of Palestinian and Jewish Academics (PJA) – Fir
 st Annual Conference
X-WR-CALNAME:University and Scholasticide: From Complicity to Solidarity
BEGIN:VEVENT
SUMMARY:University and Scholasticide: From Complicity to Solidarity
DTSTART:20250720T100000
DTEND:20250720T183000
DTSTAMP:20260423T172539Z
UID:5b20fce040fd1c117f87bb897c274fb8
CATEGORIES:
URL:https://spore-initiative.org/en/programming/participate/university-and
 -scholasticide-from-complicity-to-solidarity
END:VEVENT
END:VCALENDAR
