BEGIN:VCALENDAR
VERSION:2.0
PRODID:724fdfac-5384-46d6-95c4-69decf881636
CALSCALE:GREGORIAN
METHOD:PUBLISH
X-WR-CALDESC:Sensory Workshops
X-WR-CALNAME:JADEN ATOUMO – Caribbean Medicinal Garden
BEGIN:VEVENT
SUMMARY:JADEN ATOUMO – Caribbean Medicinal Garden
DTSTART:20250608T140000
DTEND:20250608T153000
DTSTAMP:20260423T191939Z
UID:ec078baeb24e678c1207692be1f915c4
CATEGORIES:
URL:https://spore-initiative.org/en/programming/participate/sensory-worksh
 ops-jaden-atoumo
END:VEVENT
BEGIN:VEVENT
SUMMARY:JADEN ATOUMO – Caribbean Medicinal Garden
DTSTART:20250608T170000
DTEND:20250608T183000
DTSTAMP:20260423T191939Z
UID:9a7aa54edad9828ff12ac07962fc498d
CATEGORIES:
URL:https://spore-initiative.org/en/programming/participate/sensory-worksh
 ops-jaden-atoumo
END:VEVENT
END:VCALENDAR
