BEGIN:VCALENDAR
VERSION:2.0
PRODID:bd7039d8-75bb-416d-aaca-1c3d47904c4e
CALSCALE:GREGORIAN
METHOD:PUBLISH
X-WR-CALDESC:A critical discussion about formal commemoration and multi-pe
 rspective recognition
X-WR-CALNAME:Zeit zu reden Memory Culture (2): What does “Never again is
  now” mean?
BEGIN:VEVENT
SUMMARY:Zeit zu reden Memory Culture (2): What does “Never again is now
 ” mean?
DTSTART:20250523T190000
DTEND:20250523T223000
DTSTAMP:20260420T101108Z
UID:b7a65caee007c02ddc2ec5e4dfa3eab4
CATEGORIES:
URL:https://spore-initiative.org/en/programming/participate/zeit-zu-reden-
 memory-culture-2-what-does-never-again-is-now-mean
END:VEVENT
END:VCALENDAR
