BEGIN:VCALENDAR
VERSION:2.0
PRODID:4373f69c-7c3f-4262-82dd-9427ee223d76
CALSCALE:GREGORIAN
METHOD:PUBLISH
X-WR-CALDESC:Film screening and conversation
X-WR-CALNAME:Fire of Wind
BEGIN:VEVENT
SUMMARY:Fire of Wind
DTSTART:20250612T190000
DTEND:20250612T220000
DTSTAMP:20260420T130653Z
UID:ad5e3bb5a3ed248e79265407ee761e3c
CATEGORIES:
URL:https://spore-initiative.org/en/programming/participate/fire-of-wind
END:VEVENT
END:VCALENDAR
