BEGIN:VCALENDAR
VERSION:2.0
PRODID:d12c65db-ebf8-463d-b3f5-2e49b419a557
CALSCALE:GREGORIAN
METHOD:PUBLISH
X-WR-CALDESC:Film screening and conversation with the filmmakers
X-WR-CALNAME:Interspecies Conviviality
BEGIN:VEVENT
SUMMARY:Interspecies Conviviality
DTSTART:20250605T193000
DTEND:20250605T220000
DTSTAMP:20260420T130929Z
UID:dafd07cf60a91bff5d0db78daa193b1b
CATEGORIES:
URL:https://spore-initiative.org/en/programming/participate/interspecies-c
 onviviality
END:VEVENT
END:VCALENDAR
