BEGIN:VCALENDAR
VERSION:2.0
PRODID:0e9ff30b-7449-44ab-95ae-42801a79cd84
CALSCALE:GREGORIAN
METHOD:PUBLISH
X-WR-CALDESC:Film screening and conversation\, with an introduction video 
 by Tamara Uribe and Felipe Morgado\, filmmakers of Oasis.
X-WR-CALNAME:Fragments of Dissonance and Resonance
BEGIN:VEVENT
SUMMARY:Fragments of Dissonance and Resonance
DTSTART:20250529T190000
DTEND:20250529T220000
DTSTAMP:20260420T130828Z
UID:4bd72e4f57840f804ee70ae864163cad
CATEGORIES:
URL:https://spore-initiative.org/en/programming/participate/fragments-of-d
 issonance-and-resonance
END:VEVENT
END:VCALENDAR
