BEGIN:VCALENDAR
VERSION:2.0
PRODID:efb33093-dffd-4cc6-a54e-4f0de93ba66c
CALSCALE:GREGORIAN
METHOD:PUBLISH
X-WR-CALDESC:Film screening and conversation with film maker Deniz Şimşe
 k\, and Nadjet Hamdi\, representative of the Polisario Front.
X-WR-CALNAME:Luminous untamed witnesses
BEGIN:VEVENT
SUMMARY:Luminous untamed witnesses
DTSTART:20250517T193000
DTEND:20250517T220000
DTSTAMP:20260420T130809Z
UID:e913ad8b9c644e2c4bfd5f7067d680f8
CATEGORIES:
URL:https://spore-initiative.org/en/programming/participate/whispers-of-th
 e-land
END:VEVENT
END:VCALENDAR
