BEGIN:VCALENDAR
VERSION:2.0
PRODID:fef27524-0f20-456f-b213-27357a18c965
CALSCALE:GREGORIAN
METHOD:PUBLISH
X-WR-CALDESC:Opening of the Film Series  with an introduction by Nafis Fat
 hollahzadeh & Sílvia das Fadas\, and a \nQ&A with Khadija Habashneh and D
 eepa Dhanraj.
X-WR-CALNAME:Roots of Resistance
BEGIN:VEVENT
SUMMARY:Roots of Resistance
DTSTART:20250508T183000
DTEND:20250508T220000
DTSTAMP:20260420T130654Z
UID:7480de28bf0098b2a795585d8913fb6e
CATEGORIES:
URL:https://spore-initiative.org/en/programming/participate/roots-of-resis
 tance
END:VEVENT
END:VCALENDAR
