BEGIN:VCALENDAR
VERSION:2.0
PRODID:7e7bbde4-00ab-4873-9efc-615304a00cf8
CALSCALE:GREGORIAN
METHOD:PUBLISH
X-WR-CALDESC:.
X-WR-CALNAME:Aveluk making as an art practice
BEGIN:VEVENT
SUMMARY:Aveluk making as an art practice
DTSTART:20250504T180000
DTEND:20250504T200000
DTSTAMP:20260422T123525Z
UID:ac9e1339862e2844c8cef30b78bb2679
CATEGORIES:
URL:https://spore-initiative.org/en/programming/participate/aveluk-making-
 as-an-art-practice
END:VEVENT
END:VCALENDAR
