BEGIN:VCALENDAR
VERSION:2.0
PRODID:111f5483-2df7-490e-af7d-ed043fd8c301
CALSCALE:GREGORIAN
METHOD:PUBLISH
X-WR-CALDESC:Speech\, video\, short music\, award ceremony
X-WR-CALNAME:Kurdish Story Contest Award Ceremony
BEGIN:VEVENT
SUMMARY:Kurdish Story Contest Award Ceremony
DTSTART:20250518T150000
DTEND:20250518T213000
DTSTAMP:20260420T091016Z
UID:8de5d80f377aa9f5d7ce400a4b184d78
CATEGORIES:
URL:https://spore-initiative.org/en/programming/participate/kurdish-story-
 contest-award-ceremony
END:VEVENT
END:VCALENDAR
