BEGIN:VCALENDAR
VERSION:2.0
PRODID:3da3cd24-b38e-4da3-ad09-1beb5af298b0
CALSCALE:GREGORIAN
METHOD:PUBLISH
X-WR-CALDESC:Opening of the exhibition space for an open and solidarity-ba
 sed togetherness
X-WR-CALNAME:Holding Up the Sky
BEGIN:VEVENT
SUMMARY:Holding Up the Sky
DTSTART:20250511T120000
DTEND:20250511T200000
DTSTAMP:20260420T113548Z
UID:49e7545d0ab2cbee6a6cedc2c27feb8b
CATEGORIES:
URL:https://spore-initiative.org/en/programming/participate/hold-up-the-sk
 y
END:VEVENT
END:VCALENDAR
