BEGIN:VCALENDAR
VERSION:2.0
PRODID:3b8502e8-2ec6-45c3-a00b-b695924eda31
CALSCALE:GREGORIAN
METHOD:PUBLISH
X-WR-CALDESC:Does nature have rights? - Film Screening and Talk
X-WR-CALNAME:Karuara. The People of the River
BEGIN:VEVENT
SUMMARY:Karuara. The People of the River
DTSTART:20250505T183000
DTEND:20250505T203000
DTSTAMP:20260420T130828Z
UID:f99c74a40e790a0c32e28377c10c0dad
CATEGORIES:
URL:https://spore-initiative.org/en/programming/participate/karuara-the-pe
 ople-of-the-river
END:VEVENT
END:VCALENDAR
