BEGIN:VCALENDAR
VERSION:2.0
PRODID:7a95ebe2-0174-4794-bbef-b9d1067b26ee
CALSCALE:GREGORIAN
METHOD:PUBLISH
X-WR-CALDESC:Book presentation and discussion
X-WR-CALNAME:Racial Knowledge and Doing Racism: The Long History of Racism
  in the Federal Republic of Germany.
BEGIN:VEVENT
SUMMARY:Racial Knowledge and Doing Racism: The Long History of Racism in t
 he Federal Republic of Germany.
DTSTART:20250402T193000
DTEND:20250402T210000
DTSTAMP:20260422T123224Z
UID:fae0db6546bd9de60ec072e722e589ef
CATEGORIES:
URL:https://spore-initiative.org/en/programming/participate/racial-knowled
 ge-and-doing-racism-the-long-history-of-racism-in-the-federal-republic-of-
 germany
END:VEVENT
END:VCALENDAR
