BEGIN:VCALENDAR
VERSION:2.0
PRODID:1f57f33f-a6c7-4ba1-9bd2-3d1501e9096a
CALSCALE:GREGORIAN
METHOD:PUBLISH
X-WR-CALDESC:Solidarity\, criminalisation of political activism and counte
 r-strategies
X-WR-CALNAME:Workshop for Migrant Dignity II
BEGIN:VEVENT
SUMMARY:Workshop for Migrant Dignity II
DTSTART:20250424T173000
DTEND:20250424T213000
DTSTAMP:20260422T155450Z
UID:30c765a89d2f3769d6c09c5143542d75
CATEGORIES:
URL:https://spore-initiative.org/en/programming/participate/workshop-for-m
 igrant-dignity-ii
END:VEVENT
END:VCALENDAR
