BEGIN:VCALENDAR
VERSION:2.0
PRODID:a5fd46b7-c20b-477b-af7c-f566dcff35c6
CALSCALE:GREGORIAN
METHOD:PUBLISH
X-WR-CALDESC:Writing workshop for spoken word open to Black people and Peo
 ple of Color of all writing ages.
X-WR-CALNAME:Being in Flow - Creative [decolonizing] Writing
BEGIN:VEVENT
SUMMARY:Being in Flow - Creative [decolonizing] Writing
DTSTART:20250406T100000
DTEND:20250406T160000
DTSTAMP:20260422T123014Z
UID:f0b3c80e2f25b0a00c8069ae861eea37
CATEGORIES:
URL:https://spore-initiative.org/en/programming/participate/being-in-flow-
 creative-decolonizing-writing-april
END:VEVENT
BEGIN:VEVENT
SUMMARY:Being in Flow - Creative [decolonizing] Writing
DTSTART:20250406T180000
DTEND:20250406T193000
DTSTAMP:20260422T123014Z
UID:3b75e3a454e4a0840cae9acd3c880aff
CATEGORIES:
URL:https://spore-initiative.org/en/programming/participate/being-in-flow-
 creative-decolonizing-writing-april
END:VEVENT
BEGIN:VEVENT
SUMMARY:Being in Flow - Creative [decolonizing] Writing
DTSTART:20250405T100000
DTEND:20250405T160000
DTSTAMP:20260422T123014Z
UID:18f9407cde903a3d060d082c8e9a5249
CATEGORIES:
URL:https://spore-initiative.org/en/programming/participate/being-in-flow-
 creative-decolonizing-writing-april
END:VEVENT
END:VCALENDAR
