BEGIN:VCALENDAR
VERSION:2.0
PRODID:f83cacab-8658-44e7-9287-1503e014fdfa
CALSCALE:GREGORIAN
METHOD:PUBLISH
X-WR-CALDESC:A workshop with Munira Khayyat based on her book A landscape 
 of War
X-WR-CALNAME:Ecologies of Resistance and Survival in South Lebanon
BEGIN:VEVENT
SUMMARY:Ecologies of Resistance and Survival in South Lebanon
DTSTART:20250324T170000
DTEND:20250324T200000
DTSTAMP:20260422T123014Z
UID:93ee49870854b735c24e27841adcf0e8
CATEGORIES:
URL:https://spore-initiative.org/en/programming/participate/ecologies-of-r
 esistance-and-survival-in-south-lebanon
END:VEVENT
END:VCALENDAR
