BEGIN:VCALENDAR
VERSION:2.0
PRODID:2f8cd4b7-92c4-411c-afb1-0fe110af2ea1
CALSCALE:GREGORIAN
METHOD:PUBLISH
X-WR-CALDESC:The Mushroom at the End of the World: On the Possibility of L
 ife in Capitalist Ruins
X-WR-CALNAME:Open Reading Club
BEGIN:VEVENT
SUMMARY:Open Reading Club
DTSTART:20250327T170000
DTEND:20250327T190000
DTSTAMP:20260422T174412Z
UID:03118556fc4669b8f1de3ca95f3ea747
CATEGORIES:
URL:https://spore-initiative.org/en/programming/participate/open-reading-c
 lub
END:VEVENT
BEGIN:VEVENT
SUMMARY:Open Reading Club
DTSTART:20250227T170000
DTEND:20250227T190000
DTSTAMP:20260422T174412Z
UID:6bf5c9b3b82938e07d585dd0a90d375e
CATEGORIES:
URL:https://spore-initiative.org/en/programming/participate/open-reading-c
 lub
END:VEVENT
END:VCALENDAR
